BEGIN:VCALENDAR
VERSION:2.0
PRODID:icalendar-ruby
CALSCALE:GREGORIAN
METHOD:PUBLISH
BEGIN:VEVENT
DTSTAMP:20260422T103812Z
UID:5-1237348@greenmtn.org
DTSTART:20261101T160000Z
DTEND:20261101T170000Z
CLASS:PUBLIC
CREATED:20260421T201436
DESCRIPTION:Sunday Worship
LAST-MODIFIED:20260421T201436
LOCATION:
SUMMARY:Sunday Worship
URL;VALUE=URI:https://greenmtn.org/events/sunday-worship/2026-11-01
END:VEVENT
END:VCALENDAR
