BEGIN:VCALENDAR
VERSION:2.0
PRODID:icalendar-ruby
CALSCALE:GREGORIAN
METHOD:PUBLISH
BEGIN:VEVENT
DTSTAMP:20260424T082412Z
UID:6-1245562@greenmtn.org
DTSTART:20261101T150000Z
DTEND:20261101T160000Z
CLASS:PUBLIC
CREATED:20260423T214752
DESCRIPTION:Sunday Worship Service
LAST-MODIFIED:20260423T214752
LOCATION:Green Mountain Christian Center
SUMMARY:Sunday Worship Service
URL;VALUE=URI:https://greenmtn.org/events/sunday-worship-service/2026-11-01
END:VEVENT
END:VCALENDAR
