BEGIN:VCALENDAR
VERSION:2.0
PRODID:icalendar-ruby
CALSCALE:GREGORIAN
METHOD:PUBLISH
BEGIN:VEVENT
DTSTAMP:20260422T112052Z
UID:6-1238290@greenmtn.org
DTSTART:20261025T140000Z
DTEND:20261025T150000Z
CLASS:PUBLIC
CREATED:20260422T071455
DESCRIPTION:Sunday Worship Service
LAST-MODIFIED:20260422T071455
LOCATION:Green Mountain Christian Center
SUMMARY:Sunday Worship Service
URL;VALUE=URI:https://greenmtn.org/events/sunday-worship-service/2026-10-25
END:VEVENT
END:VCALENDAR
