BEGIN:VCALENDAR
VERSION:2.0
PRODID:icalendar-ruby
CALSCALE:GREGORIAN
METHOD:PUBLISH
BEGIN:VEVENT
DTSTAMP:20260422T094547Z
UID:6-1237628@greenmtn.org
DTSTART:20261018T140000Z
DTEND:20261018T150000Z
CLASS:PUBLIC
CREATED:20260421T201436
DESCRIPTION:Sunday Worship Service
LAST-MODIFIED:20260421T201436
LOCATION:Green Mountain Christian Center
SUMMARY:Sunday Worship Service
URL;VALUE=URI:https://greenmtn.org/events/sunday-worship-service/2026-10-18
END:VEVENT
END:VCALENDAR
